Workbook

Sheet Abstract
A1: Volume Abstract · abstract of quantities
A2: Project: Stripping, bund with 3:1 river side and 2:1 country side, moorum top and cut-off trench
A3: Route: Bund · 2/000–2/500 · 500 m counted
A4: Method: Average end area (quantities are formulas)
A5: Nothing left out
A7: No. | B7: Item | C7: Unit | D7: Chainage | E7: Gross m³ | F7: Factor | G7: Net m³ | H7: Statement
B8: Earthwork
A9: 1 | B9: Earthwork in cutting | C9: m³ | D9: 2/000–2/500 | E9: ='Chainage-wise'!H29 -> 0 | F9: 1 | G9: =E9*F9 -> 0 | H9: Chainage-wise →
A10: 2 | B10: Earthwork in embankment | C10: m³ | D10: 2/000–2/500 | E10: ='Chainage-wise'!I29 -> 32240.075 | F10: 1.1 | G10: =E10*F10 -> 35464.082 | H10: Chainage-wise →
B11: Balance
B12: Cut used in embankment | C12: m³ | G12: =MIN(G9,G10) -> 0
B13: =IF(G10>=G9,"Borrow needed for embankment","Surplus cut to dispose of") -> Borrow needed for embankment | C13: m³ | G13: =ABS(G10-G9) -> 35464.082

Sheet Chainage-wise
A1: Volume Abstract · Chainage-wise statement: earthwork
A2: Project: Stripping, bund with 3:1 river side and 2:1 country side, moorum top and cut-off trench
A3: Route: Bund · 2/000–2/500 · 500 m counted
A4: Method: Average end area (quantities are formulas)
A5: Nothing left out
A7: Review | B7: Chainage | C7: Distance m | D7: Cutting area m² | E7: Filling area m² | F7: Mean cutting m² | G7: Mean filling m² | H7: Cutting m³ | I7: Filling m³ | J7: Cutting to date m³ | K7: Filling to date m³ | L7: Mass ordinate m³ | M7: Remark
A8: ✓ | B8: 2/000 | D8: 0 | E8: 56.912 | J8: 0 | K8: 0 | L8: 0
A9: ✓ | B9: 2/025 | C9: 25 | D9: 0 | E9: 53.928 | F9: =(D9+D8)/2 -> 0 | G9: =(E9+E8)/2 -> 55.42 | H9: =F9*C9 -> 0 | I9: =G9*C9 -> 1385.5 | J9: =J8+H9 -> 0 | K9: =K8+I9 -> 1385.5 | L9: =L8+H9*Abstract!$F$9-I9*Abstract!$F$10 -> -1524.05
A10: ○ | B10: 2/050 | C10: 25 | D10: 0 | E10: 52.117 | F10: =(D10+D9)/2 -> 0 | G10: =(E10+E9)/2 -> 53.0225 | H10: =F10*C10 -> 0 | I10: =G10*C10 -> 1325.5625 | J10: =J9+H10 -> 0 | K10: =K9+I10 -> 2711.0625 | L10: =L9+H10*Abstract!$F$9-I10*Abstract!$F$10 -> -2982.1688 | M10: Not reviewed yet
A11: ○ | B11: 2/075 | C11: 25 | D11: 0 | E11: 51.785 | F11: =(D11+D10)/2 -> 0 | G11: =(E11+E10)/2 -> 51.951 | H11: =F11*C11 -> 0 | I11: =G11*C11 -> 1298.775 | J11: =J10+H11 -> 0 | K11: =K10+I11 -> 4009.8375 | L11: =L10+H11*Abstract!$F$9-I11*Abstract!$F$10 -> -4410.8212 | M11: Not reviewed yet
A12: ○ | B12: 2/100 | C12: 25 | D12: 0 | E12: 53.002 | F12: =(D12+D11)/2 -> 0 | G12: =(E12+E11)/2 -> 52.3935 | H12: =F12*C12 -> 0 | I12: =G12*C12 -> 1309.8375 | J12: =J11+H12 -> 0 | K12: =K11+I12 -> 5319.675 | L12: =L11+H12*Abstract!$F$9-I12*Abstract!$F$10 -> -5851.6425 | M12: Not reviewed yet
A13: ○ | B13: 2/125 | C13: 25 | D13: 0 | E13: 56.337 | F13: =(D13+D12)/2 -> 0 | G13: =(E13+E12)/2 -> 54.6695 | H13: =F13*C13 -> 0 | I13: =G13*C13 -> 1366.7375 | J13: =J12+H13 -> 0 | K13: =K12+I13 -> 6686.4125 | L13: =L12+H13*Abstract!$F$9-I13*Abstract!$F$10 -> -7355.0538 | M13: Not reviewed yet
A14: ○ | B14: 2/150 | C14: 25 | D14: 0 | E14: 63.305 | F14: =(D14+D13)/2 -> 0 | G14: =(E14+E13)/2 -> 59.821 | H14: =F14*C14 -> 0 | I14: =G14*C14 -> 1495.525 | J14: =J13+H14 -> 0 | K14: =K13+I14 -> 8181.9375 | L14: =L13+H14*Abstract!$F$9-I14*Abstract!$F$10 -> -9000.1313 | M14: Not reviewed yet
A15: ○ | B15: 2/175 | C15: 25 | D15: 0 | E15: 87.604 | F15: =(D15+D14)/2 -> 0 | G15: =(E15+E14)/2 -> 75.4545 | H15: =F15*C15 -> 0 | I15: =G15*C15 -> 1886.3625 | J15: =J14+H15 -> 0 | K15: =K14+I15 -> 10068.3 | L15: =L14+H15*Abstract!$F$9-I15*Abstract!$F$10 -> -11075.13 | M15: Not reviewed yet
A16: ○ | B16: 2/200 | C16: 25 | D16: 0 | E16: 104.978 | F16: =(D16+D15)/2 -> 0 | G16: =(E16+E15)/2 -> 96.291 | H16: =F16*C16 -> 0 | I16: =G16*C16 -> 2407.275 | J16: =J15+H16 -> 0 | K16: =K15+I16 -> 12475.575 | L16: =L15+H16*Abstract!$F$9-I16*Abstract!$F$10 -> -13723.133 | M16: Not reviewed yet
A17: ○ | B17: 2/225 | C17: 25 | D17: 0 | E17: 113.959 | F17: =(D17+D16)/2 -> 0 | G17: =(E17+E16)/2 -> 109.4685 | H17: =F17*C17 -> 0 | I17: =G17*C17 -> 2736.7125 | J17: =J16+H17 -> 0 | K17: =K16+I17 -> 15212.287 | L17: =L16+H17*Abstract!$F$9-I17*Abstract!$F$10 -> -16733.516 | M17: Not reviewed yet
A18: ○ | B18: 2/250 | C18: 25 | D18: 0 | E18: 106.736 | F18: =(D18+D17)/2 -> 0 | G18: =(E18+E17)/2 -> 110.3475 | H18: =F18*C18 -> 0 | I18: =G18*C18 -> 2758.6875 | J18: =J17+H18 -> 0 | K18: =K17+I18 -> 17970.975 | L18: =L17+H18*Abstract!$F$9-I18*Abstract!$F$10 -> -19768.073 | M18: Not reviewed yet
A19: ○ | B19: 2/275 | C19: 25 | D19: 0 | E19: 90.073 | F19: =(D19+D18)/2 -> 0 | G19: =(E19+E18)/2 -> 98.4045 | H19: =F19*C19 -> 0 | I19: =G19*C19 -> 2460.1125 | J19: =J18+H19 -> 0 | K19: =K18+I19 -> 20431.087 | L19: =L18+H19*Abstract!$F$9-I19*Abstract!$F$10 -> -22474.196 | M19: Not reviewed yet
A20: ○ | B20: 2/300 | C20: 25 | D20: 0 | E20: 63.606 | F20: =(D20+D19)/2 -> 0 | G20: =(E20+E19)/2 -> 76.8395 | H20: =F20*C20 -> 0 | I20: =G20*C20 -> 1920.9875 | J20: =J19+H20 -> 0 | K20: =K19+I20 -> 22352.075 | L20: =L19+H20*Abstract!$F$9-I20*Abstract!$F$10 -> -24587.283 | M20: Not reviewed yet
A21: ○ | B21: 2/325 | C21: 25 | D21: 0 | E21: 56.635 | F21: =(D21+D20)/2 -> 0 | G21: =(E21+E20)/2 -> 60.1205 | H21: =F21*C21 -> 0 | I21: =G21*C21 -> 1503.0125 | J21: =J20+H21 -> 0 | K21: =K20+I21 -> 23855.087 | L21: =L20+H21*Abstract!$F$9-I21*Abstract!$F$10 -> -26240.596 | M21: Not reviewed yet
... A28: ○ | B28: 2/500 | C28: 25 | D28: 0 | E28: 40.008 | F28: =(D28+D27)/2 -> 0 | G28: =(E28+E27)/2 -> 41.022 | H28: =F28*C28 -> 0 | I28: =G28*C28 -> 1025.55 | J28: =J27+H28 -> 0 | K28: =K27+I28 -> 32240.075 | L28: =L27+H28*Abstract!$F$9-I28*Abstract!$F$10 -> -35464.083 | M28: Not reviewed yet
B29: Total | C29: 500 | H29: =SUM(H8:H28) -> 0 | I29: =SUM(I8:I28) -> 32240.075 | L29: =L28 -> -35464.083

Sheet Mass haul
A1: Volume Abstract · mass haul
A2: Project: Stripping, bund with 3:1 river side and 2:1 country side, moorum top and cut-off trench
A3: Route: Bund · 2/000–2/500 · 500 m counted
A4: Method: Average end area (quantities are formulas)
A5: Nothing left out
A7: Chainage | B7: Chainage m | C7: Mass ordinate m³ | D7: Remark
A8: 2/000 | B8: 2000 | C8: ='Chainage-wise'!L8 -> 0
A9: 2/025 | B9: 2025 | C9: ='Chainage-wise'!L9 -> -1524.05
A10: 2/050 | B10: 2050 | C10: ='Chainage-wise'!L10 -> -2982.1688
A11: 2/075 | B11: 2075 | C11: ='Chainage-wise'!L11 -> -4410.8212
A12: 2/100 | B12: 2100 | C12: ='Chainage-wise'!L12 -> -5851.6425
A13: 2/125 | B13: 2125 | C13: ='Chainage-wise'!L13 -> -7355.0538
A14: 2/150 | B14: 2150 | C14: ='Chainage-wise'!L14 -> -9000.1313
A15: 2/175 | B15: 2175 | C15: ='Chainage-wise'!L15 -> -11075.13
A16: 2/200 | B16: 2200 | C16: ='Chainage-wise'!L16 -> -13723.133
A17: 2/225 | B17: 2225 | C17: ='Chainage-wise'!L17 -> -16733.516
A18: 2/250 | B18: 2250 | C18: ='Chainage-wise'!L18 -> -19768.073
A19: 2/275 | B19: 2275 | C19: ='Chainage-wise'!L19 -> -22474.196
... A28: 2/500 | B28: 2500 | C28: ='Chainage-wise'!L28 -> -35464.083
